BEGIN:VCALENDAR
VERSION:2.0
PRODID:-//Northern Star Quilters&#039; Guild - ECPv6.15.20//NONSGML v1.0//EN
CALSCALE:GREGORIAN
METHOD:PUBLISH
X-WR-CALNAME:Northern Star Quilters&#039; Guild
X-ORIGINAL-URL:https://www.northernstarquilters.com
X-WR-CALDESC:Events for Northern Star Quilters&#039; Guild
REFRESH-INTERVAL;VALUE=DURATION:PT1H
X-Robots-Tag:noindex
X-PUBLISHED-TTL:PT1H
BEGIN:VTIMEZONE
TZID:America/New_York
BEGIN:DAYLIGHT
TZOFFSETFROM:-0500
TZOFFSETTO:-0400
TZNAME:EDT
DTSTART:20240310T070000
END:DAYLIGHT
BEGIN:STANDARD
TZOFFSETFROM:-0400
TZOFFSETTO:-0500
TZNAME:EST
DTSTART:20241103T060000
END:STANDARD
BEGIN:DAYLIGHT
TZOFFSETFROM:-0500
TZOFFSETTO:-0400
TZNAME:EDT
DTSTART:20250309T070000
END:DAYLIGHT
BEGIN:STANDARD
TZOFFSETFROM:-0400
TZOFFSETTO:-0500
TZNAME:EST
DTSTART:20251102T060000
END:STANDARD
BEGIN:DAYLIGHT
TZOFFSETFROM:-0500
TZOFFSETTO:-0400
TZNAME:EDT
DTSTART:20260308T070000
END:DAYLIGHT
BEGIN:STANDARD
TZOFFSETFROM:-0400
TZOFFSETTO:-0500
TZNAME:EST
DTSTART:20261101T060000
END:STANDARD
END:VTIMEZONE
BEGIN:VEVENT
DTSTART;TZID=America/New_York:20251119T180000
DTEND;TZID=America/New_York:20251119T210000
DTSTAMP:20260421T204521
CREATED:20170914T123106Z
LAST-MODIFIED:20251115T125809Z
UID:10000060-1763575200-1763586000@www.northernstarquilters.com
SUMMARY:Batik Sale + Meeting+Lecture Betsy Habich
DESCRIPTION:*** Update – Late start for meeting – doors not open til 6pm\, all activities start after that ***\n\nWe will NOT have a Show and Tell\nWe will NOT have a Free Table\nLibrary Services will NOT be available except to return books\nThe November 19th Batik Sale will begin at 6:30\nThe December 10th Holiday Boutique will begin at 6:30\nOur Speakers will begin at 7:15 pm for both meetings\nWe will have refreshments\n\nShop at the Batik Blowout!\nSale starts 5:30pm\n$4/yard  –  1/4\, 1/2\, 1\, and 2 yd + cutsThanks to a huge donation of batiks to Comfort Quilts\, we have a bonanza to share with guild members.\nHundreds of yards of batiks at amazing prices so bring $$$ (cash or check) and a shopping bag because you don’t want to miss out.\n*****\n\n\n \n19 November 2025 \nBETSY HABICH \nThread Painting: It’s all about the Details \nSlide & trunk show talk.  A short introduction to my pieced and appliqued pictorial quilts shows the quilting style I developed to support the images\, a bridge to thread painting. Then you see how to make a photorealistic thread painting: selecting the right photo\, printing it on fabric\, seeing all the colors in the piece\, selecting threads\, different stitches\, blending colors smoothly\, representing texture\, and paying attention to detail. The third part follows a landscape thread-painting from start to finish\, to show how a painting actually develops. Q&A and opportunity to look at the quilts follow. \n  \nBIO Betsy Habich’s quilts have been juried into national and regional  shows\, including International Quilt Association (IQA /Houston)\, American Quilters  Society (AQS/ Paducah)\, Machine Quilters Expo (MQX)\, and Quilters Gathering\, and  her work has been awarded at regional quilt shows including the Vermont Quilt Festival\,  The Gathering\, and the Machine Quilters Expo (MQX). In addition\, she has had several  one-woman shows at local shows\, shops\, and libraries. She is a self-confessed  fabricaholic and cat person\, though she has also been known to play with dogs. She lives  with her husband\, cats\, and fabric in Beverly Farms\, MA. \nClick here to learn about Betsy Habich Quilts \n\nBusiness meeting generally starts at 6pm\, arrive earlier for sign-in\, refreshments and socializing\, with any lecture generally at 7pm.\nGuests are always welcome\, there is a guest fee\, $10\, which can be credited toward membership – click HERE for more information. \nOur Hospitality team provides coffee and tea along with a few cookies at in-person meetings.\nPlease bring your own mug or water bottle.\nMember contributions of home-baked treats or other simple snacks are requested!
URL:https://www.northernstarquilters.com/event/lecture-3/
LOCATION:Fox Lane High School\, 632 South Bedford Road\, Bedford\, NY\, 10506\, United States
CATEGORIES:Guild Meeting,Lectures,Member Activities
ORGANIZER;CN="President":MAILTO:President@northernstarquilters.com
END:VEVENT
END:VCALENDAR