BEGIN:VCALENDAR
VERSION:2.0
PRODID:-//Northern Star Quilters&#039; Guild - ECPv6.15.20//NONSGML v1.0//EN
CALSCALE:GREGORIAN
METHOD:PUBLISH
X-ORIGINAL-URL:https://www.northernstarquilters.com
X-WR-CALDESC:Events for Northern Star Quilters&#039; Guild
REFRESH-INTERVAL;VALUE=DURATION:PT1H
X-Robots-Tag:noindex
X-PUBLISHED-TTL:PT1H
BEGIN:VTIMEZONE
TZID:America/New_York
BEGIN:DAYLIGHT
TZOFFSETFROM:-0500
TZOFFSETTO:-0400
TZNAME:EDT
DTSTART:20250309T070000
END:DAYLIGHT
BEGIN:STANDARD
TZOFFSETFROM:-0400
TZOFFSETTO:-0500
TZNAME:EST
DTSTART:20251102T060000
END:STANDARD
BEGIN:DAYLIGHT
TZOFFSETFROM:-0500
TZOFFSETTO:-0400
TZNAME:EDT
DTSTART:20260308T070000
END:DAYLIGHT
BEGIN:STANDARD
TZOFFSETFROM:-0400
TZOFFSETTO:-0500
TZNAME:EST
DTSTART:20261101T060000
END:STANDARD
BEGIN:DAYLIGHT
TZOFFSETFROM:-0500
TZOFFSETTO:-0400
TZNAME:EDT
DTSTART:20270314T070000
END:DAYLIGHT
BEGIN:STANDARD
TZOFFSETFROM:-0400
TZOFFSETTO:-0500
TZNAME:EST
DTSTART:20271107T060000
END:STANDARD
END:VTIMEZONE
BEGIN:VEVENT
DTSTART;TZID=America/New_York:20260121T180000
DTEND;TZID=America/New_York:20260121T180000
DTSTAMP:20260421T170519
CREATED:20170914T123804Z
LAST-MODIFIED:20251010T123036Z
UID:10000061-1769018400-1769018400@www.northernstarquilters.com
SUMMARY:Meeting+Lecture (Zoom)-Christine Barnes
DESCRIPTION:This is a Zoom event.\nThe zoom link will be emailed to registered participants a few days before.\n\n \n21 January 2026  ZOOM \nChristine Barnes \nColor! Color! Color! \nLuster! Luminosity! Transparency! \n1) Being “good with color” is more about practice than talent! This program begins with a look at the three color characteristics common to all quilts and garments: value\, temperature\, and intensity. These terms sound academic\, yet they\, as much as color itself\, are the key to making great quilts. Learn how to use the color wheel to create fresh\, unexpected color combinations. See how color affects texture and pattern. Images of quilts from nationally known quilters are followed by my quilts and a digital mini fashion show of wearables. \n2) Put simply\, “magic fabrics” give a quilt light and vitality. Some suggest light coming from below the surface (luminosity) or bouncing across the surface (luster). Others imply that see-through colors overlap to create new color mixtures (transparency). They typically display variations in value—light areas among darker areas\, or light-to-dark gradations—and they often contain warm colors. A digital trunk show of fabrics\, quilts\, and wearables brings the concepts to life. \nBIO My quilting life began when I was eight or nine\, with a doll quilt made on my crank Singer sewing machine. I asked my grandmother what was inside a quilt\, and she said “cotton.” I stuffed my little quilt with cotton balls—and wondered why it was lumpy. \nFast forward through teenage years happily spent sewing clothes. Degrees in Design and Journalism segued into a full-time job for Sunset Publishing. In 1980 I wrote Quilting\, Patchwork & Appliqué\, a best seller\, thanks to the input from renowned quilter Roberta Horton. I went on to write books on soft furnishings\, decorating\, and remodeling. I loved my job. \nLater\, as a free-lance writer\, I was assigned to write a chapter on color for another Sunset book. Through exercises and observation\, my uncle\, an artist in Mendocino\, taught me how color works—and ignited a lifelong love of color. \nThat chapter laid the foundation for two books on color theory for quilters\, plus articles for quilt magazines and decades of teaching. My main takeaway? There are classic color concepts—and they work. Whether it’s choosing fabrics for a new quilt\, fixing one that’s not working\, or attempting an effect like transparency\, it all boils down to the basics. What may look like magic is grounded in classic color theory. \nRetired from traveling to teach\, I do lectures and classes via Zoom. I feel so fortunate to live a life that connects me to quilts and quilt makers worldwide. And now\, my best creative time is spent in my light-filled sewing room\, where I am always happy. \nClick here to learn more about Christine Barnes \n\nBusiness meeting generally starts at 6pm\, arrive earlier for sign-in\, refreshments and socializing\, with any lecture generally at 7pm.\nGuests are always welcome\, there is a guest fee\, $10\, which can be credited toward membership – click HERE for more information. \nOur Hospitality team provides coffee and tea along with a few cookies at in-person meetings.\nPlease bring your own mug or water bottle.\nMember contributions of home-baked treats or other simple snacks are requested!
URL:https://www.northernstarquilters.com/event/lecture-4/
LOCATION:Online – Zoom\, United States
CATEGORIES:Guild Meeting,Lectures
ORGANIZER;CN="President":MAILTO:President@northernstarquilters.com
END:VEVENT
END:VCALENDAR