BEGIN:VCALENDAR
VERSION:2.0
PRODID:-//Northern Star Quilters&#039; Guild - ECPv6.15.20//NONSGML v1.0//EN
CALSCALE:GREGORIAN
METHOD:PUBLISH
X-ORIGINAL-URL:https://www.northernstarquilters.com
X-WR-CALDESC:Events for Northern Star Quilters&#039; Guild
REFRESH-INTERVAL;VALUE=DURATION:PT1H
X-Robots-Tag:noindex
X-PUBLISHED-TTL:PT1H
BEGIN:VTIMEZONE
TZID:America/New_York
BEGIN:DAYLIGHT
TZOFFSETFROM:-0500
TZOFFSETTO:-0400
TZNAME:EDT
DTSTART:20240310T070000
END:DAYLIGHT
BEGIN:STANDARD
TZOFFSETFROM:-0400
TZOFFSETTO:-0500
TZNAME:EST
DTSTART:20241103T060000
END:STANDARD
BEGIN:DAYLIGHT
TZOFFSETFROM:-0500
TZOFFSETTO:-0400
TZNAME:EDT
DTSTART:20250309T070000
END:DAYLIGHT
BEGIN:STANDARD
TZOFFSETFROM:-0400
TZOFFSETTO:-0500
TZNAME:EST
DTSTART:20251102T060000
END:STANDARD
BEGIN:DAYLIGHT
TZOFFSETFROM:-0500
TZOFFSETTO:-0400
TZNAME:EDT
DTSTART:20260308T070000
END:DAYLIGHT
BEGIN:STANDARD
TZOFFSETFROM:-0400
TZOFFSETTO:-0500
TZNAME:EST
DTSTART:20261101T060000
END:STANDARD
END:VTIMEZONE
BEGIN:VEVENT
DTSTART;TZID=America/New_York:20250917T180000
DTEND;TZID=America/New_York:20250917T203000
DTSTAMP:20260422T060049
CREATED:20170828T154420Z
LAST-MODIFIED:20250531T171613Z
UID:10000058-1758132000-1758141000@www.northernstarquilters.com
SUMMARY:Meeting+Lecture-Valerie Maser-Flanagan
DESCRIPTION:17 September 2025 \nVALERIE MASER-FLANAGAN \nUsing Line as a Design Focus in Composition \nValerie Maser-Flanagan uses self-created hand-dyed fabric to design abstract sewn constructions.  Her work is influenced by both the rural setting she currently resides in\, her exposure to urban structures from working in Boston for thirty years\, and her attraction to ethnic design.  Maser-Flanagan has exhibited throughout the United States and received numerous awards for her work.  Her Work has been purchased by the Chandler Arts Council in Arizona\, Visions Art Museum\, The International Quilt Museum\, and by private collectors. Examples of her designs are published in Quilting with a Modern Slant by Rachel May\, Dyeing Alchemy by Diane Franklin\, and Art Quilts International Abstract and Geometric by Martha Sielman\, and Color a Workshop for Artists and Designers by David Hornung. Maser-Flanagan began as a traditional quilter but transitioned to contemporary design through studies with Nancy Crow\, David Hornung and Carol Soderlund. \nClick here to learn more about Valerie Maser-Flanagan \n\nBusiness meeting generally starts at 6pm\, arrive earlier for sign-in\, refreshments and socializing\, with any lecture generally at 7pm.\nGuests are always welcome\, there is a guest fee\, $10\, which can be credited toward membership – click HERE for more information. \nOur Hospitality team provides coffee and tea along with a few cookies at in-person meetings.\nPlease bring your own mug or water bottle.\nMember contributions of home-baked treats or other simple snacks are requested!
URL:https://www.northernstarquilters.com/event/lecture-1/
LOCATION:Fox Lane High School\, 632 South Bedford Road\, Bedford\, NY\, 10506\, United States
CATEGORIES:Guild Meeting,Lectures
ORGANIZER;CN="President":MAILTO:President@northernstarquilters.com
END:VEVENT
END:VCALENDAR