BEGIN:VCALENDAR
VERSION:2.0
PRODID:-//Northern Star Quilters&#039; Guild - ECPv6.15.20//NONSGML v1.0//EN
CALSCALE:GREGORIAN
METHOD:PUBLISH
X-WR-CALNAME:Northern Star Quilters&#039; Guild
X-ORIGINAL-URL:https://www.northernstarquilters.com
X-WR-CALDESC:Events for Northern Star Quilters&#039; Guild
REFRESH-INTERVAL;VALUE=DURATION:PT1H
X-Robots-Tag:noindex
X-PUBLISHED-TTL:PT1H
BEGIN:VTIMEZONE
TZID:America/New_York
BEGIN:DAYLIGHT
TZOFFSETFROM:-0500
TZOFFSETTO:-0400
TZNAME:EDT
DTSTART:20250309T070000
END:DAYLIGHT
BEGIN:STANDARD
TZOFFSETFROM:-0400
TZOFFSETTO:-0500
TZNAME:EST
DTSTART:20251102T060000
END:STANDARD
BEGIN:DAYLIGHT
TZOFFSETFROM:-0500
TZOFFSETTO:-0400
TZNAME:EDT
DTSTART:20260308T070000
END:DAYLIGHT
BEGIN:STANDARD
TZOFFSETFROM:-0400
TZOFFSETTO:-0500
TZNAME:EST
DTSTART:20261101T060000
END:STANDARD
BEGIN:DAYLIGHT
TZOFFSETFROM:-0500
TZOFFSETTO:-0400
TZNAME:EDT
DTSTART:20270314T070000
END:DAYLIGHT
BEGIN:STANDARD
TZOFFSETFROM:-0400
TZOFFSETTO:-0500
TZNAME:EST
DTSTART:20271107T060000
END:STANDARD
END:VTIMEZONE
BEGIN:VEVENT
DTSTART;TZID=America/New_York:20260318T180000
DTEND;TZID=America/New_York:20260318T203000
DTSTAMP:20260421T185819
CREATED:20170914T130443Z
LAST-MODIFIED:20260311T122246Z
UID:10000064-1773856800-1773865800@www.northernstarquilters.com
SUMMARY:Meeting - Gyleen X. Fitzgerald
DESCRIPTION:Business meeting generally starts at 6pm\, arrive earlier for sign-in\, refreshments and socializing\, with any lecture generally at 7pm.\nGuests are always welcome\, there is a guest fee\, $10\, which can be credited toward membership – click HERE for more information. \nOur Hospitality team provides coffee and tea along with a few cookies at in-person meetings.\nPlease bring your own mug or water bottle.\nMember contributions of home-baked treats or other simple snacks are requested! \n\n\nChallenge Quilts Due!\nRemember to bring yours to be collected at this meeting.\n\n \n18 March 2026 \nGYLEEN FITZGERALD \nMake Mine with Scraps \nFocus on traditional utility quilts. Use up\, cut up or recycle what you have on hand to make stunning quilts. Learn to harmonize exchange and friendship blocks or clear your clutter with strips and squares. \nBIO Gyleen Fitzgerald makes quilts that blend color\, pattern and texture to provide a contemporary essence to traditional quilting. A true renaissance woman\, she embraced all the needle arts before becoming obsessed with quiltmaking and design in 1981. It is an understatement to say she loves color and is willing to incorporate as much fabric as possible to achieve a rich color blend. Her strength as a quilt artist is demonstrated by the infusion of engineering tools and innovative techniques to simplify visually complex quilts. She shares her enthusiasm for quilting through exhibits\, interactive lectures and workshops. The avid quilter\, Gyleen has earned Best of Show honors.As a writer\, Gyleen centers on quilt design project books\, magazine articles\, haiku poetry and children’s books.  As a publisher\, she is a repeat Gold Medal winner for Quilts: Unfinished Stories with New Endings; Polygon Affair…So Easy You’ll Fall in Love; and Bricks\, Cobblestones and Pebbles. \nBibliography \n\nThe Queen’s Court\, FPI Publishing\, 2023\nIn Search of Dragon Eggs\, The Legend of the Black Knight in the Land of Delphia\, 2023\nPolygon Series: Simplicity\, Book I; Elegance\, Book II; and Evolution\, Book III\, 2019\nBricks\, Cobblestones and Pebbles\, FPI Publishing\, coming fall 2015\nPolygon Affair…So Easy You’ll Fall in Love\, FPI Publishing\, 2013\nTrash to Treasure Pineapple Quilts\, FPI Publishing\, 2010\nQuilts: Unfinished Stories with New Endings\, FPI Publishing\, 2009\nIn the House\, If Walls Could Talk\, FPI Publishing\, 2008\nThe Dream: A Magical Journey in Colourful Stitches\, FPI Publishing\, 2005.\nPoetry and Patchwork\, Co-Author\, James W. Pryde\, Jr\, FPI Publishing\, 2005\n\nClick here to learn more about Gyleen X Fitzgerald
URL:https://www.northernstarquilters.com/event/lecture-6/
LOCATION:Fox Lane High School\, 632 South Bedford Road\, Bedford\, NY\, 10506\, United States
CATEGORIES:Guild Meeting,Lectures
ORGANIZER;CN="President":MAILTO:President@northernstarquilters.com
END:VEVENT
END:VCALENDAR