BEGIN:VCALENDAR
VERSION:2.0
PRODID:-//Northern Star Quilters&#039; Guild - ECPv6.15.20//NONSGML v1.0//EN
CALSCALE:GREGORIAN
METHOD:PUBLISH
X-WR-CALNAME:Northern Star Quilters&#039; Guild
X-ORIGINAL-URL:https://www.northernstarquilters.com
X-WR-CALDESC:Events for Northern Star Quilters&#039; Guild
REFRESH-INTERVAL;VALUE=DURATION:PT1H
X-Robots-Tag:noindex
X-PUBLISHED-TTL:PT1H
BEGIN:VTIMEZONE
TZID:America/New_York
BEGIN:DAYLIGHT
TZOFFSETFROM:-0500
TZOFFSETTO:-0400
TZNAME:EDT
DTSTART:20230312T070000
END:DAYLIGHT
BEGIN:STANDARD
TZOFFSETFROM:-0400
TZOFFSETTO:-0500
TZNAME:EST
DTSTART:20231105T060000
END:STANDARD
BEGIN:DAYLIGHT
TZOFFSETFROM:-0500
TZOFFSETTO:-0400
TZNAME:EDT
DTSTART:20240310T070000
END:DAYLIGHT
BEGIN:STANDARD
TZOFFSETFROM:-0400
TZOFFSETTO:-0500
TZNAME:EST
DTSTART:20241103T060000
END:STANDARD
BEGIN:DAYLIGHT
TZOFFSETFROM:-0500
TZOFFSETTO:-0400
TZNAME:EDT
DTSTART:20250309T070000
END:DAYLIGHT
BEGIN:STANDARD
TZOFFSETFROM:-0400
TZOFFSETTO:-0500
TZNAME:EST
DTSTART:20251102T060000
END:STANDARD
BEGIN:DAYLIGHT
TZOFFSETFROM:-0500
TZOFFSETTO:-0400
TZNAME:EDT
DTSTART:20260308T070000
END:DAYLIGHT
BEGIN:STANDARD
TZOFFSETFROM:-0400
TZOFFSETTO:-0500
TZNAME:EST
DTSTART:20261101T060000
END:STANDARD
END:VTIMEZONE
BEGIN:VEVENT
DTSTART;TZID=America/New_York:20250504T163000
DTEND;TZID=America/New_York:20250504T180000
DTSTAMP:20260423T120048
CREATED:20170915T144419Z
LAST-MODIFIED:20250124T214049Z
UID:10000065-1746376200-1746381600@www.northernstarquilters.com
SUMMARY:Quilt PickUp
DESCRIPTION:DON’T FORGET YOUR QUILT CLAIM CARD!\nQUILT PICK-UP Procedure:\nFor the safety and protection of all quilts\, you must present your signed Quilt Claim Card before your quilt will be returned to you.  If someone else is picking up your quilt\, you must sign your Quilt Claim Card and that person must hand it in.\n\nDO NOT ATTEMPT TO COLLECT YOUR OWN QUILTS!\nDO NOT LEAVE WITHOUT HANDING IN YOUR CLAIM CARD(s)!\nWhile every effort will be made to start the pick-up process as early as possible\, we can only guarantee that quilt distribution will begin at 5:00pm.  Please check in at 4:30pm on Sunday to receive a pick-up number.  Quilt return will end at 6:00pm.  Any quilts not picked up by then will be held by the Quilt Return Coordinator until the owner contacts them and makes arrangements for its return. \nSTEP 1.  Check in at the cafe across from the gym –\n— a) Receive a group number.\n— b) Verify your identity and show your quilt claim card(s).  If you do not have your quilt claim card(s)\, you need to obtain a replacement.\n— c) Wait for your group number to be called. \nSTEP 2.  When your group number is called\, proceed to the gym –\n— a) Proceed to the Quilt Pickup Table and turn in your number.\n— b) Hand your claim card(s) to the next available helper.\n— c) Step aside while the helper collects your quilt(s) \nSTEP 3.\n— d) Verify you are receiving the the correct quilts\n— e) Sign and turn in your claim card(s) and receive your quilts \nSTEP 4.  Pick up your judges comments\, quilt display card(s) and any ribbons at the nearby table.
URL:https://www.northernstarquilters.com/event/quilt-pick-up/
LOCATION:Purchase College\, Gymnasium\, 735 Anderson Hill Road\, Purchase\, NY\, United States
CATEGORIES:Quilt Show
ORGANIZER;CN="Quilt Show VP":MAILTO:quiltshow@northernstarquilters.com
END:VEVENT
BEGIN:VEVENT
DTSTART;TZID=America/New_York:20250503T100000
DTEND;TZID=America/New_York:20250504T160000
DTSTAMP:20260423T120048
CREATED:20231026T022555Z
LAST-MODIFIED:20260408T014905Z
UID:10000103-1746266400-1746374400@www.northernstarquilters.com
SUMMARY:Our Next Show is on Hiatus - Stay Tuned
DESCRIPTION:Quilt Show Catalog – 2025Winners List – 2025Our next show is on hiatus – stay tuned for future possibilities\n\nWORLD OF QUILTS\nOur show of  around 300 quilts displays the many facets of the art and craft of quilting:  traditional to modern to improvisational to fiber art and includes well-known speakers\, special exhibits\, demonstrations\, raffles\, quilts for sale\, and vendors selling fabric\, quilting related items\, and sewing machines. \nSpeaker2025 Invitational - Marge Tucker\n  – \n More about Marge...\nMarge Tucker is an international award-winning quilt artist and quilting instructor.  Learning how to sew clothes from her mother\, the first quilt she made was for friends expecting their first child over thirty years ago.   “At that time\, I didn’t know that quilting would become my passion and now my profession.  I feel so fortunate to be able to share and continue the tradition of quilting with my students.” \n“I started with traditional pieced quilts but am now focused on abstract improvisational design in my work. My work is about color and small compositions. Each block in a quilt is made as its own element\, independent of the other blocks. After all of the blocks are constructed\, my goal is to arrange the small compositions to play off each other and work together to create a larger whole. What keeps me engaged is watching how the project changes and transforms with the addition of each color and texture.  The resulting quilts are contemporary works\, set in this time and place\, which reference the rich tradition of quilt making. \n \nThis exhibit showcases a portion of my contemporary improvisational quilts\, from an earlier improv quilt (Urban Cabins) to some recent finishes (Solstice and Bright Boxed Diamonds) as well as quilts that were inspired by antique quilts in my collection. My process when creating quilts is to start with an idea and some colors and see where I am led.  I often do not have a definitive idea of what the finished quilt will be\, for me this allows  experimentation and the ability to add or subtract elements as I form the composition.  I quilt all of my quilts myself.  Once the top is completed I then quilt on a domestic machine (Bernina) with my walking foot or I use the BabyLock Sashiko machine for a hand quilted look.I started collecting quilts around 2006.  I have always loved going to antique shows and stores  and\, with quilting as a passion\, I started to look for quilts as I browsed.  When I started working improvisationally in my quilting I looked for older quilts made in an improvisational manner\, where the quilt maker wasn’t using a recognizable quilt block or else was taking creative license with a commonly known quilt block. As my collection grew\, I became so inspired by some of these antique and vintage quilts that I began to recreate and reimagine them.  Shown in this exhibit are an antique Crazy Quilt top that inspired Redux 117.  Other quilts in this exhibit that were inspired by an antique/vintage quilt or top are Bright Boxed Diamonds\, Solstice and Burst. When making my version of an older quilt\, my goal was not to exactly duplicate it but rather to capture its spirit\, essence\, or defining design element\, or else to reimagine it in a different colorway.   \nMarge teaches throughout the United States and also from her studio in Rockland\, MA.  She lives in Norwell\, MA and Phoenix\, AZ.You can read more on Marge’s website:  margetuckerquilts.com. \n\nLectures Demos\n\nSaturday – 1 pm – \nSaturday – 3 pm –\nSunday – 1 pm –\n\n'Take a Chance' \nBernette b08 Sewing Machine (donated by Pins&Needles) \n\n \nSewing Machine and Basket Raffles \nVendors\n Vendor List \nQuilts for Sale\n\nCreated by NSQG members\nFundraising Quilt\nSupport 2025’s fundraiser for Camp Herrlich.\nRequest tickets now! \nBook Sale\n\n\nQuilt and craft books (gently used) at bargain prices \n\n \nShow Pins\nA limited supply of 2025 lapel pins for sale\, based on our spectacular fundraising quilt \nChallenge Display\n\nUpcycled Ties and Scarves\nAQS Guild Challenge Winners\n\nSpecial Interest Groups \nQuilt displays on various themes by NSQG’s talented SIG members.\nFiber Art NorthEast and Connected by Threads\nCampus and Area Restaurants\n\nCampus Parking Map\nRead about our Show History\nSee some Past Show Pics
URL:https://www.northernstarquilters.com/event/world-of-quilts/
LOCATION:Purchase College\, Gymnasium\, 735 Anderson Hill Road\, Purchase\, NY\, United States
CATEGORIES:Quilt Show
ORGANIZER;CN="Quilt Show VP":MAILTO:quiltshow@northernstarquilters.com
END:VEVENT
BEGIN:VEVENT
DTSTART;TZID=America/New_York:20250426T120000
DTEND;TZID=America/New_York:20250426T150000
DTSTAMP:20260423T120048
CREATED:20160801T033517Z
LAST-MODIFIED:20250124T213010Z
UID:10000052-1745668800-1745679600@www.northernstarquilters.com
SUMMARY:Quilt DropOff
DESCRIPTION:QUILT DROP-OFF Requirements:\nQuilts will be inspected at Quilt Drop-Off and will not be accepted if they do not meet these requirements.\n\nNO Quilts Will Be Accepted After Drop-Off Day\n NO EXCEPTIONS!\nPlease Plan Accordingly\n– If you will not be able to submit your quilt after all\, please let us know as soon as possible to help our display process run smoothly. \n– If your exact (to the inch) quilt measurements have changed since registration\, please let us know as soon as possible to help our display process run smoothly. \n– If you did not send a picture of the complete top with your registration\, please do so as soon as possible to help our display process run smoothly. \n– A week or so prior to Drop-off\, you will be sent relevant drop-off information and your quilt number label(s) to sew on your quilt(s) \n–  Before coming to Drop-off\, the quilt number label must be sewn on the lower right hand corner (as viewed from the back)\, a hanging sleeve sewn on\, and any other personal identification temporarily covered with a sewn on patch (no tape or pins).  All quilts must have a temporary name and address label which can be covered by the quilt number label. \n– All quilts MUST be able to be folded while with NSQG\, except for very small ones. If any quilt is determined at Drop-off to exceed our handling capabilities\, special arrangements may need to be made in order to accept the quilt. \n– Quilts must be clean and in excellent show-ready condition. Pet hair\, smoke\, or strong odors that might be transferred to someone else’s quilt will disqualify an entry. \n– A Quilt Claim Card\, required to reclaim your quilt\, will be given to you when your quilt is accepted.  Do not lose it!\n \n– If you are not able to bring your quilt to the scheduled Drop-off\, please make arrangements with another guild member to do it for you or contact the Drop-off Coordinator beforehand!
URL:https://www.northernstarquilters.com/event/quilt-drop-off/
LOCATION:North Salem Volunteer Ambulance Corps\, 14 Daniel Road\, North Salem\, NY\, United States
CATEGORIES:Quilt Show
ORGANIZER;CN="Quilt Show VP":MAILTO:quiltshow@northernstarquilters.com
GEO:41.3465101;-73.648264
X-APPLE-STRUCTURED-LOCATION;VALUE=URI;X-ADDRESS=North Salem Volunteer Ambulance Corps 14 Daniel Road North Salem NY United States;X-APPLE-RADIUS=500;X-TITLE=14 Daniel Road:geo:-73.648264,41.3465101
END:VEVENT
BEGIN:VEVENT
DTSTART;VALUE=DATE:20250214
DTEND;VALUE=DATE:20250215
DTSTAMP:20260423T120049
CREATED:20250124T222342Z
LAST-MODIFIED:20250225T210341Z
UID:10000117-1739491200-1739577599@www.northernstarquilters.com
SUMMARY:First Day of Quilt Registration
DESCRIPTION:2025 – Quilt Registration\nFebruary 14 – April 1\npossibly ends earlier if space filled\nwww.northernstarquilters.com/quilt-show/quilt-registration
URL:https://www.northernstarquilters.com/event/quilt-registration/
LOCATION:NY
CATEGORIES:Quilt Show
ORGANIZER;CN="Quilt Show VP":MAILTO:quiltshow@northernstarquilters.com
END:VEVENT
BEGIN:VEVENT
DTSTART;TZID=America/New_York:20240508T090000
DTEND;TZID=America/New_York:20240509T180000
DTSTAMP:20260423T120049
CREATED:20240121T153040Z
LAST-MODIFIED:20240812T133218Z
UID:10000114-1715158800-1715277600@www.northernstarquilters.com
SUMMARY:*FILLED* Workshop-Dancing with the Wall-Session#2 (2 days)
DESCRIPTION:SIGN-UP:  To check availability or with any questions\, email  programs@northernstarquilters.com \n\nBe sure your NSQG membership is up-to-date (click here to renew or join) before registering as a member.\nNon-members are welcome (based on availability) for an increased fee\, as listed in the event description.\nAll sign-ups are subject to availability; NO refunds unless the event is cancelled.\nSupply lists\, if not already on the website\, will be emailed shortly before the workshop\nZoom link\, if applicable\, will be emailed to participants a few days before the workshop.\n\nPay by credit card: click HERE.\nPay by check (payable to Northern Star Quilters’ Guild):\n– EMAIL  programs@northernstarquilters.com with your selection;\n– NOTE on your check the workshop you want;\n– MAIL your check to: Betty Moulton\, 404 Tamarack Lane\, Brewster\, NY  10509 \n\n\n\n\n\n\nWorkshop Filled – Waitlist Only\nIRENE RODERICK\n  \nDancing with the Wall:  Improv Irene-Style Quick-Step \nWEDNESDAY and THURSDAY\, May 8-9\,  2024\n9:00 am to 6:00 pm each day with an hour for lunch\nMembers $150\nLive\, in-person\, 2 days at the Millwood Firehouse on 100 Millwood Road in Millwood\, NY 10546 \nCome spend two days with Irene and learn how to let your sub-conscience and creativity drive you to make a unique expression of your individual aesthetic and process. Using only two contrasting colors\, you will learn how to construct the individual components used to make an improv Irene-style quilt. You will discover how fun it is to make many types of  stripes\, triangles\, squares and curves in new and original ways. Expect to leave with a piece in progress as well as all the techniques to pursue this approach to improv quilting. \nAbout two weeks before the workshop Irene will send copies of her handouts and links to two of her videos–one on components and one on skinny lines. \nPlease sign up promptly.  If there is enough interest and registration and this workshop closes out early\, a second class can be arranged with Irene. \n \nTo learn more about Irene Roderick\, visit her website:  Irene Roderick \n \nYou can purchase her book at your local quilt or book store\, or order on Amazon or Barnes & Noble. \nSupply list will be emailed to participants. \n\nAbout Irene\n\nMy artwork is currently grounded in the textile arts\, focused on quilt making and fabric dyeing.  I am trained as a painter and I have always been interested in pattern and color and how these elements can evoke emotional and political responses. A few years ago\, I encountered modern quilting and loved the idea of making a “utilitarian painting.” I learned to quilt and accidentally discovered improvisational quilting\, an intuitive\, spontaneous process I call “dancing with the wall.” The technique opened up a new-found creativity for me. This work is entirely intuitive and visceral.   \nI begin by placing a scrap of fabric in the center of my design wall and then grow the quilt one element at a time\, responding to each “step” until it feels balanced\, interesting and joyful. When I begin\, I do not know  what is going to happen but create through trial and error\, literally dancing between the wall\, the cutting mat\, the sewing machine and the iron. Through this act of making\, I have learned to embrace the joy of creative intuition\, spontaneous expression\, and a blind trust in process.
URL:https://www.northernstarquilters.com/event/workshop-show2/
LOCATION:Millwood Fire Co#1\, 100 Millwood Rd\, Millwood\, NY\, 10546\, United States
CATEGORIES:Quilt Show,Workshops
ORGANIZER;CN="Programs VP":MAILTO:Programs@northernstarquilters.com
END:VEVENT
END:VCALENDAR